BEGIN:VCALENDAR
VERSION:2.0
PRODID:-//hacksw/handcal//NONSGML v1.0//EN
CALSCALE:GREGORIAN
BEGIN:VEVENT
ORGANIZER;CN=MoonLake Immunotherapeutics:MAILTO:no-reply@gcs-web.com
DTEND:20260910T040000Z
UID:33735833-bfe4-4af6-a84b-887965be5c9a
DTSTAMP:1777044755
LOCATION:https://ir.moonlaketx.com/events/event-details/citis-2026-biopharma-back-school-conference
DESCRIPTION:Event Details https://ir.moonlaketx.com/events/event-details/citis-2026-biopharma-back-school-conference
URL;VALUE=URI:https://ir.moonlaketx.com/events/event-details/citis-2026-biopharma-back-school-conference
SUMMARY:MoonLake Immunotherapeutics - Citi's 2026 Biopharma Back to School Conference
DTSTART:20260909T040000Z
END:VEVENT
END:VCALENDAR